Package: Rhdf5lib Version: 1.30.0 Command: /Library/Frameworks/R.framework/Resources/bin/R CMD check --install=check:Rhdf5lib.install-out.txt --library=/Library/Frameworks/R.framework/Resources/library --no-vignettes --timings Rhdf5lib_1.30.0.tar.gz StartedAt: 2025-04-21 23:03:00 -0400 (Mon, 21 Apr 2025) EndedAt: 2025-04-21 23:03:28 -0400 (Mon, 21 Apr 2025) EllapsedTime: 28.1 seconds RetCode: 0 Status: WARNINGS CheckDir: Rhdf5lib.Rcheck Warnings: 1