Package: RgnTX Version: 1.10.0 Command: /home/biocbuild/R/R/bin/R CMD INSTALL RgnTX StartedAt: 2025-05-05 21:16:55 -0000 (Mon, 05 May 2025) EndedAt: 2025-05-05 21:17:51 -0000 (Mon, 05 May 2025) EllapsedTime: 56.5 seconds RetCode: 0 Status: OK