Package: Rfastp Version: 1.18.0 Command: chmod a+r Rfastp -R && E:\biocbuild\bbs-3.21-bioc\R\bin\R.exe CMD build --keep-empty-dirs --no-resave-data Rfastp StartedAt: 2025-08-14 21:42:55 -0400 (Thu, 14 Aug 2025) EndedAt: 2025-08-14 21:45:10 -0400 (Thu, 14 Aug 2025) EllapsedTime: 134.6 seconds RetCode: 0 Status: OK PackageFile: Rfastp_1.18.0.tar.gz PackageFileSize: 2.421 MiB