Package: Rfastp Version: 1.18.0 Command: rm -rf Rfastp.buildbin-libdir && mkdir Rfastp.buildbin-libdir && E:\biocbuild\bbs-3.21-bioc\R\bin\R.exe CMD INSTALL --build --library=Rfastp.buildbin-libdir Rfastp_1.18.0.tar.gz StartedAt: 2025-08-15 10:05:48 -0400 (Fri, 15 Aug 2025) EndedAt: 2025-08-15 10:07:41 -0400 (Fri, 15 Aug 2025) EllapsedTime: 113.1 seconds RetCode: 0 Status: OK PackageFile: Rfastp_1.18.0.zip PackageFileSize: 2.922 MiB