Package: Rfastp Version: 1.18.0 Command: /home/biocbuild/R/R/bin/R CMD check --install=check:Rfastp.install-out.txt --library=/home/biocbuild/R/R/site-library --no-vignettes --timings Rfastp_1.18.0.tar.gz StartedAt: 2025-05-06 12:40:45 -0000 (Tue, 06 May 2025) EndedAt: 2025-05-06 12:41:25 -0000 (Tue, 06 May 2025) EllapsedTime: 40.0 seconds RetCode: 0 Status: WARNINGS CheckDir: Rfastp.Rcheck Warnings: 1