Package: Rfastp Version: 1.18.0 Command: /Library/Frameworks/R.framework/Resources/bin/R CMD build --keep-empty-dirs --no-resave-data Rfastp StartedAt: 2025-04-21 17:25:34 -0400 (Mon, 21 Apr 2025) EndedAt: 2025-04-21 17:26:04 -0400 (Mon, 21 Apr 2025) EllapsedTime: 30.3 seconds RetCode: 0 Status: OK PackageFile: Rfastp_1.18.0.tar.gz PackageFileSize: 2.7 MiB