Package: Rfastp Version: 1.18.0 Command: rm -rf Rfastp.buildbin-libdir && mkdir Rfastp.buildbin-libdir && /Users/biocbuild/BBS/utils/build-universal.sh Rfastp_1.18.0.tar.gz /Library/Frameworks/R.framework/Resources/bin/R Rfastp.buildbin-libdir StartedAt: 2025-04-21 22:48:37 -0400 (Mon, 21 Apr 2025) EndedAt: 2025-04-21 22:49:05 -0400 (Mon, 21 Apr 2025) EllapsedTime: 27.5 seconds RetCode: 0 Status: OK PackageFile: Rfastp_1.18.0.tgz PackageFileSize: 2.802 MiB