Package: Repitools Version: 1.52.0 Command: /home/biocbuild/R/R/bin/R CMD build --keep-empty-dirs --no-resave-data Repitools StartedAt: 2025-01-31 02:06:46 -0000 (Fri, 31 Jan 2025) EndedAt: 2025-01-31 02:07:51 -0000 (Fri, 31 Jan 2025) EllapsedTime: 65.1 seconds RetCode: 0 Status: OK PackageFile: Repitools_1.52.0.tar.gz PackageFileSize: 1.68 MiB