Package: Repitools Version: 1.54.0 Command: /home/biocbuild/bbs-3.21-bioc/R/bin/R CMD INSTALL Repitools StartedAt: 2025-10-15 16:06:41 -0400 (Wed, 15 Oct 2025) EndedAt: 2025-10-15 16:06:42 -0400 (Wed, 15 Oct 2025) EllapsedTime: 0.2 seconds RetCode: 1 Status: ERROR