Package: Repitools Version: 1.54.0 Command: /Library/Frameworks/R.framework/Resources/bin/R CMD INSTALL Repitools StartedAt: 2025-05-08 15:55:24 -0400 (Thu, 08 May 2025) EndedAt: 2025-05-08 15:56:49 -0400 (Thu, 08 May 2025) EllapsedTime: 84.4 seconds RetCode: 0 Status: OK