Package: Repitools Version: 1.54.0 Command: /home/biocbuild/R/R/bin/R CMD build --keep-empty-dirs --no-resave-data Repitools StartedAt: 2025-05-13 03:32:18 -0000 (Tue, 13 May 2025) EndedAt: 2025-05-13 03:33:32 -0000 (Tue, 13 May 2025) EllapsedTime: 74.0 seconds RetCode: 0 Status: OK PackageFile: Repitools_1.54.0.tar.gz PackageFileSize: 1.68 MiB