Package: Repitools Version: 1.54.0 Maintainer: Mark Robinson MaintainerEmail: mark.robinson at mls.uzh.ch git_url: https://git.bioconductor.org/packages/Repitools git_branch: RELEASE_3_21 git_last_commit: 5f0efc7 git_last_commit_date: 2025-04-15 10:09:01 -0400 (Tue, 15 Apr 2025)