Package: RegionalST Version: 1.6.0 Command: /home/biocbuild/bbs-3.21-bioc/R/bin/R CMD build --keep-empty-dirs --no-resave-data RegionalST StartedAt: 2025-10-01 19:29:42 -0400 (Wed, 01 Oct 2025) EndedAt: 2025-10-01 19:31:27 -0400 (Wed, 01 Oct 2025) EllapsedTime: 105.1 seconds RetCode: 0 Status: OK PackageFile: RegionalST_1.6.0.tar.gz PackageFileSize: 4.184 MiB