Package: RegionalST Version: 1.6.0 Command: /Library/Frameworks/R.framework/Resources/bin/R CMD INSTALL RegionalST StartedAt: 2025-05-12 18:11:52 -0400 (Mon, 12 May 2025) EndedAt: 2025-05-12 18:12:25 -0400 (Mon, 12 May 2025) EllapsedTime: 32.3 seconds RetCode: 0 Status: OK