Package: RegEnrich Version: 1.16.0 Command: /home/biocbuild/R/R/bin/R CMD INSTALL RegEnrich StartedAt: 2025-01-30 20:50:20 -0000 (Thu, 30 Jan 2025) EndedAt: 2025-01-30 20:51:06 -0000 (Thu, 30 Jan 2025) EllapsedTime: 46.1 seconds RetCode: 0 Status: OK