Package: RegEnrich Version: 1.16.0 Command: /home/biocbuild/R/R/bin/R CMD build --keep-empty-dirs --no-resave-data RegEnrich StartedAt: 2025-01-31 02:05:03 -0000 (Fri, 31 Jan 2025) EndedAt: 2025-01-31 02:06:46 -0000 (Fri, 31 Jan 2025) EllapsedTime: 103.1 seconds RetCode: 1 Status: ERROR PackageFile: None PackageFileSize: NA