Package: ReducedExperiment Version: 1.2.0 Command: /home/biocbuild/bbs-3.22-bioc/R/bin/R CMD INSTALL ReducedExperiment StartedAt: 2025-11-14 15:50:49 -0500 (Fri, 14 Nov 2025) EndedAt: 2025-11-14 15:51:25 -0500 (Fri, 14 Nov 2025) EllapsedTime: 36.4 seconds RetCode: 0 Status: OK