Package: ReducedExperiment Version: 1.2.0 Command: /Library/Frameworks/R.framework/Resources/bin/R CMD INSTALL ReducedExperiment StartedAt: 2025-11-10 15:25:21 -0500 (Mon, 10 Nov 2025) EndedAt: 2025-11-10 15:25:35 -0500 (Mon, 10 Nov 2025) EllapsedTime: 14.6 seconds RetCode: 0 Status: OK