Package: ReducedExperiment Version: 1.2.0 Command: /Library/Frameworks/R.framework/Resources/bin/R CMD build --keep-empty-dirs --no-resave-data ReducedExperiment StartedAt: 2025-11-10 17:29:16 -0500 (Mon, 10 Nov 2025) EndedAt: 2025-11-10 17:30:26 -0500 (Mon, 10 Nov 2025) EllapsedTime: 69.8 seconds RetCode: 0 Status: OK PackageFile: ReducedExperiment_1.2.0.tar.gz PackageFileSize: 2.906 MiB