Package: RedisParam Version: 1.10.0 Command: /home/biocbuild/bbs-3.21-bioc/R/bin/R CMD INSTALL RedisParam StartedAt: 2025-10-15 15:10:16 -0400 (Wed, 15 Oct 2025) EndedAt: 2025-10-15 15:10:28 -0400 (Wed, 15 Oct 2025) EllapsedTime: 12.4 seconds RetCode: 0 Status: OK