Package: RedisParam Version: 1.10.0 Maintainer: Martin Morgan MaintainerEmail: mtmorgan.bioc at gmail.com git_url: https://git.bioconductor.org/packages/RedisParam git_branch: RELEASE_3_21 git_last_commit: 2ef834f git_last_commit_date: 2025-04-15 12:53:46 -0400 (Tue, 15 Apr 2025)