Package: RedeR Version: 3.2.0 Command: /home/biocbuild/R/R/bin/R CMD build --keep-empty-dirs --no-resave-data RedeR StartedAt: 2025-01-31 02:04:53 -0000 (Fri, 31 Jan 2025) EndedAt: 2025-01-31 02:05:08 -0000 (Fri, 31 Jan 2025) EllapsedTime: 15.0 seconds RetCode: 0 Status: OK PackageFile: RedeR_3.2.0.tar.gz PackageFileSize: 4.416 MiB