Package: RedeR Version: 3.4.0 Command: chmod a+r RedeR -R && E:\biocbuild\bbs-3.21-bioc\R\bin\R.exe CMD build --keep-empty-dirs --no-resave-data RedeR StartedAt: 2025-08-14 21:40:15 -0400 (Thu, 14 Aug 2025) EndedAt: 2025-08-14 21:41:58 -0400 (Thu, 14 Aug 2025) EllapsedTime: 102.9 seconds RetCode: 0 Status: OK PackageFile: RedeR_3.4.0.tar.gz PackageFileSize: 4.347 MiB