Package: RedeR Version: 3.4.0 Command: rm -rf RedeR.buildbin-libdir && mkdir RedeR.buildbin-libdir && E:\biocbuild\bbs-3.21-bioc\R\bin\R.exe CMD INSTALL --build --library=RedeR.buildbin-libdir RedeR_3.4.0.tar.gz StartedAt: 2025-08-15 10:04:41 -0400 (Fri, 15 Aug 2025) EndedAt: 2025-08-15 10:05:32 -0400 (Fri, 15 Aug 2025) EllapsedTime: 51.3 seconds RetCode: 0 Status: OK PackageFile: RedeR_3.4.0.zip PackageFileSize: 3.63 MiB