Package: ReadqPCR Version: 1.52.0 Command: /home/biocbuild/R/R/bin/R CMD build --keep-empty-dirs --no-resave-data ReadqPCR StartedAt: 2025-01-31 02:04:08 -0000 (Fri, 31 Jan 2025) EndedAt: 2025-01-31 02:04:17 -0000 (Fri, 31 Jan 2025) EllapsedTime: 9.0 seconds RetCode: 0 Status: OK PackageFile: ReadqPCR_1.52.0.tar.gz PackageFileSize: 484 KiB