Package: ReadqPCR Version: 1.52.0 Command: /home/biocbuild/bbs-3.20-bioc/R/bin/R CMD check --install=check:ReadqPCR.install-out.txt --library=/home/biocbuild/bbs-3.20-bioc/R/site-library --timings ReadqPCR_1.52.0.tar.gz StartedAt: 2025-01-03 01:30:06 -0500 (Fri, 03 Jan 2025) EndedAt: 2025-01-03 01:30:34 -0500 (Fri, 03 Jan 2025) EllapsedTime: 28.1 seconds RetCode: 0 Status: OK CheckDir: ReadqPCR.Rcheck Warnings: 0