Package: ReadqPCR Version: 1.54.0 Maintainer: James Perkins MaintainerEmail: jimrperkins at gmail.com git_url: https://git.bioconductor.org/packages/ReadqPCR git_branch: RELEASE_3_21 git_last_commit: aa05752 git_last_commit_date: 2025-04-15 10:09:05 -0400 (Tue, 15 Apr 2025)