Package: ReactomeGSA Version: 1.22.0 Command: /home/biocbuild/R/R/bin/R CMD check --install=check:ReactomeGSA.install-out.txt --library=/home/biocbuild/R/R/site-library --no-vignettes --timings ReactomeGSA_1.22.0.tar.gz StartedAt: 2025-05-16 12:12:24 -0000 (Fri, 16 May 2025) EndedAt: 2025-05-16 12:30:27 -0000 (Fri, 16 May 2025) EllapsedTime: 1082.9 seconds RetCode: 0 Status: OK CheckDir: ReactomeGSA.Rcheck Warnings: 0