Package: ReactomeGSA Version: 1.22.0 Command: /home/biocbuild/R/R/bin/R CMD build --keep-empty-dirs --no-resave-data ReactomeGSA StartedAt: 2025-05-16 03:31:57 -0000 (Fri, 16 May 2025) EndedAt: 2025-05-16 03:39:03 -0000 (Fri, 16 May 2025) EllapsedTime: 426.2 seconds RetCode: 0 Status: OK PackageFile: ReactomeGSA_1.22.0.tar.gz PackageFileSize: 290.4 KiB