Package: Rdisop Version: 1.66.0 Command: /home/biocbuild/R/R/bin/R CMD INSTALL Rdisop StartedAt: 2025-01-30 20:07:23 -0000 (Thu, 30 Jan 2025) EndedAt: 2025-01-30 20:08:29 -0000 (Thu, 30 Jan 2025) EllapsedTime: 65.5 seconds RetCode: 0 Status: OK