Package: Rcwl Version: 1.24.0 Command: /Library/Frameworks/R.framework/Resources/bin/R CMD INSTALL Rcwl StartedAt: 2025-05-01 15:18:57 -0400 (Thu, 01 May 2025) EndedAt: 2025-05-01 15:19:23 -0400 (Thu, 01 May 2025) EllapsedTime: 26.2 seconds RetCode: 0 Status: OK