Package: Rcwl Version: 1.24.0 Command: /home/biocbuild/R/R/bin/R CMD check --install=check:Rcwl.install-out.txt --library=/home/biocbuild/R/R/site-library --no-vignettes --timings Rcwl_1.24.0.tar.gz StartedAt: 2025-04-22 12:47:57 -0000 (Tue, 22 Apr 2025) EndedAt: 2025-04-22 12:49:47 -0000 (Tue, 22 Apr 2025) EllapsedTime: 110.1 seconds RetCode: 0 Status: OK CheckDir: Rcwl.Rcheck Warnings: 0