Package: RcisTarget Version: 1.26.0 Command: /home/biocbuild/R/R/bin/R CMD INSTALL RcisTarget StartedAt: 2025-01-30 20:50:42 -0000 (Thu, 30 Jan 2025) EndedAt: 2025-01-30 20:51:31 -0000 (Thu, 30 Jan 2025) EllapsedTime: 49.6 seconds RetCode: 0 Status: OK