Package: RcisTarget Version: 1.28.1 Command: rm -rf RcisTarget.buildbin-libdir && mkdir RcisTarget.buildbin-libdir && E:\biocbuild\bbs-3.21-bioc\R\bin\R.exe CMD INSTALL --build --library=RcisTarget.buildbin-libdir RcisTarget_1.28.1.tar.gz StartedAt: 2025-08-15 10:03:17 -0400 (Fri, 15 Aug 2025) EndedAt: 2025-08-15 10:04:41 -0400 (Fri, 15 Aug 2025) EllapsedTime: 84.5 seconds RetCode: 0 Status: OK PackageFile: RcisTarget_1.28.1.zip PackageFileSize: 12.83 MiB