Package: Rbwa Version: 1.10.0 Command: /Library/Frameworks/R.framework/Resources/bin/R CMD build --keep-empty-dirs --no-resave-data Rbwa StartedAt: 2025-01-30 22:07:17 -0500 (Thu, 30 Jan 2025) EndedAt: 2025-01-30 22:07:56 -0500 (Thu, 30 Jan 2025) EllapsedTime: 38.8 seconds RetCode: 0 Status: OK PackageFile: Rbwa_1.10.0.tar.gz PackageFileSize: 651.3 KiB