Package: Rbwa Version: 1.12.0 Command: /Library/Frameworks/R.framework/Resources/bin/R CMD build --keep-empty-dirs --no-resave-data Rbwa StartedAt: 2025-04-21 18:05:43 -0400 (Mon, 21 Apr 2025) EndedAt: 2025-04-21 18:06:07 -0400 (Mon, 21 Apr 2025) EllapsedTime: 23.9 seconds RetCode: 0 Status: OK PackageFile: Rbwa_1.12.0.tar.gz PackageFileSize: 651.3 KiB