Package: Rbwa Version: 1.12.0 Command: rm -rf Rbwa.buildbin-libdir && mkdir Rbwa.buildbin-libdir && /Users/biocbuild/BBS/utils/build-universal.sh Rbwa_1.12.0.tar.gz /Library/Frameworks/R.framework/Resources/bin/R Rbwa.buildbin-libdir StartedAt: 2025-04-21 22:47:58 -0400 (Mon, 21 Apr 2025) EndedAt: 2025-04-21 22:48:06 -0400 (Mon, 21 Apr 2025) EllapsedTime: 7.2 seconds RetCode: 0 Status: OK PackageFile: Rbwa_1.12.0.tgz PackageFileSize: 634.1 KiB