Package: Rbwa Version: 1.12.0 Maintainer: Jean-Philippe Fortin MaintainerEmail: fortin946 at gmail.com git_url: https://git.bioconductor.org/packages/Rbwa git_branch: RELEASE_3_21 git_last_commit: 5639960 git_last_commit_date: 2025-04-15 12:47:04 -0400 (Tue, 15 Apr 2025)