Package: Rbowtie2 Version: 2.14.0 Command: /Library/Frameworks/R.framework/Resources/bin/R CMD build --keep-empty-dirs --no-resave-data Rbowtie2 StartedAt: 2025-05-08 21:36:13 -0400 (Thu, 08 May 2025) EndedAt: 2025-05-08 21:44:14 -0400 (Thu, 08 May 2025) EllapsedTime: 481.7 seconds RetCode: 0 Status: OK PackageFile: Rbowtie2_2.14.0.tar.gz PackageFileSize: 1.711 MiB