Package: Rbowtie2 Version: 2.14.0 Command: rm -rf Rbowtie2.buildbin-libdir && mkdir Rbowtie2.buildbin-libdir && /Users/biocbuild/BBS/utils/build-universal.sh Rbowtie2_2.14.0.tar.gz /Library/Frameworks/R.framework/Resources/bin/R Rbowtie2.buildbin-libdir StartedAt: 2025-05-09 13:00:53 -0400 (Fri, 09 May 2025) EndedAt: 2025-05-09 13:10:36 -0400 (Fri, 09 May 2025) EllapsedTime: 582.3 seconds RetCode: 0 Status: OK PackageFile: Rbowtie2_2.14.0.tgz PackageFileSize: 2.032 MiB