Package: Rbowtie Version: 1.48.0 Command: chmod a+r Rbowtie -R && E:\biocbuild\bbs-3.21-bioc\R\bin\R.exe CMD build --keep-empty-dirs --no-resave-data Rbowtie StartedAt: 2025-08-14 21:36:45 -0400 (Thu, 14 Aug 2025) EndedAt: 2025-08-14 21:39:50 -0400 (Thu, 14 Aug 2025) EllapsedTime: 184.1 seconds RetCode: 0 Status: OK PackageFile: Rbowtie_1.48.0.tar.gz PackageFileSize: 903.6 KiB