Package: RankProd Version: 3.32.0 Command: /home/biocbuild/R/R/bin/R CMD INSTALL RankProd StartedAt: 2025-01-30 20:06:58 -0000 (Thu, 30 Jan 2025) EndedAt: 2025-01-30 20:07:24 -0000 (Thu, 30 Jan 2025) EllapsedTime: 26.6 seconds RetCode: 0 Status: OK