Package: RaggedExperiment Version: 1.32.2 Maintainer: Marcel Ramos MaintainerEmail: marcel.ramos at sph.cuny.edu git_url: https://git.bioconductor.org/packages/RaggedExperiment git_branch: RELEASE_3_21 git_last_commit: 96ccbb9 git_last_commit_date: 2025-05-05 16:38:24 -0400 (Mon, 05 May 2025)