Package: RadioGx Version: 2.12.0 Command: /Library/Frameworks/R.framework/Resources/bin/R CMD check --install=check:RadioGx.install-out.txt --library=/Library/Frameworks/R.framework/Resources/library --no-vignettes --timings RadioGx_2.12.0.tar.gz StartedAt: 2025-04-21 22:52:52 -0400 (Mon, 21 Apr 2025) EndedAt: 2025-04-21 22:57:35 -0400 (Mon, 21 Apr 2025) EllapsedTime: 283.0 seconds RetCode: 0 Status: OK CheckDir: RadioGx.Rcheck Warnings: 0