Package: RadioGx Version: 2.12.0 Command: /Library/Frameworks/R.framework/Resources/bin/R CMD build --keep-empty-dirs --no-resave-data RadioGx StartedAt: 2025-04-21 18:04:14 -0400 (Mon, 21 Apr 2025) EndedAt: 2025-04-21 18:05:24 -0400 (Mon, 21 Apr 2025) EllapsedTime: 69.7 seconds RetCode: 0 Status: OK PackageFile: RadioGx_2.12.0.tar.gz PackageFileSize: 2.778 MiB