Package: RadioGx Version: 2.12.0 Command: rm -rf RadioGx.buildbin-libdir && mkdir RadioGx.buildbin-libdir && /Users/biocbuild/BBS/utils/build-universal.sh RadioGx_2.12.0.tar.gz /Library/Frameworks/R.framework/Resources/bin/R RadioGx.buildbin-libdir StartedAt: 2025-04-22 01:02:22 -0400 (Tue, 22 Apr 2025) EndedAt: 2025-04-22 01:03:16 -0400 (Tue, 22 Apr 2025) EllapsedTime: 54.4 seconds RetCode: 0 Status: OK PackageFile: RadioGx_2.12.0.tgz PackageFileSize: 4.218 MiB