Package: RadioGx Version: 2.12.0 Command: /home/biocbuild/R/R/bin/R CMD build --keep-empty-dirs --no-resave-data RadioGx StartedAt: 2025-05-06 03:33:30 -0000 (Tue, 06 May 2025) EndedAt: 2025-05-06 03:34:43 -0000 (Tue, 06 May 2025) EllapsedTime: 73.0 seconds RetCode: 0 Status: OK PackageFile: RadioGx_2.12.0.tar.gz PackageFileSize: 2.763 MiB