Package: RVS Version: 1.30.0 Command: /Library/Frameworks/R.framework/Resources/bin/R CMD build --keep-empty-dirs --no-resave-data RVS StartedAt: 2025-05-01 21:58:08 -0400 (Thu, 01 May 2025) EndedAt: 2025-05-01 22:05:14 -0400 (Thu, 01 May 2025) EllapsedTime: 425.4 seconds RetCode: 0 Status: OK PackageFile: RVS_1.30.0.tar.gz PackageFileSize: 566.7 KiB