############################################################################## ############################################################################## ### ### Running command: ### ### rm -rf RVS.buildbin-libdir && mkdir RVS.buildbin-libdir && /Users/biocbuild/BBS/utils/build-universal.sh RVS_1.30.0.tar.gz /Library/Frameworks/R.framework/Resources/bin/R RVS.buildbin-libdir ### ############################################################################## ############################################################################## >>>>>>> >>>>>>> INSTALLATION WITH 'R CMD INSTALL --preclean --no-multiarch --library=RVS.buildbin-libdir RVS_1.30.0.tar.gz' >>>>>>> * installing *source* package ‘RVS’ ... ** this is package ‘RVS’ version ‘1.30.0’ ** using staged installation ** R ** data *** moving datasets to lazyload DB ** inst ** byte-compile and prepare package for lazy loading ** help *** installing help indices ** building package indices ** installing vignettes ** testing if installed package can be loaded from temporary location ** testing if installed package can be loaded from final location ** testing if installed package keeps a record of temporary installation path * DONE (RVS) chown: RVS.buildbin-libdir/RVS/misc/list_RV_haplo.R: Operation not permitted chown: RVS.buildbin-libdir/RVS/misc: Operation not permitted chown: RVS.buildbin-libdir/RVS/extdata/sample.ped.gz: Operation not permitted chown: RVS.buildbin-libdir/RVS/extdata: Operation not permitted chown: RVS.buildbin-libdir/RVS/R/RVS.rdx: Operation not permitted chown: RVS.buildbin-libdir/RVS/R/RVS.rdb: Operation not permitted chown: RVS.buildbin-libdir/RVS/R/RVS: Operation not permitted chown: RVS.buildbin-libdir/RVS/R: Operation not permitted chown: RVS.buildbin-libdir/RVS/Meta/vignette.rds: Operation not permitted chown: RVS.buildbin-libdir/RVS/Meta/data.rds: Operation not permitted chown: RVS.buildbin-libdir/RVS/Meta/links.rds: Operation not permitted chown: RVS.buildbin-libdir/RVS/Meta/features.rds: Operation not permitted chown: RVS.buildbin-libdir/RVS/Meta/nsInfo.rds: Operation not permitted chown: RVS.buildbin-libdir/RVS/Meta/package.rds: Operation not permitted chown: RVS.buildbin-libdir/RVS/Meta/hsearch.rds: Operation not permitted chown: RVS.buildbin-libdir/RVS/Meta/Rd.rds: Operation not permitted chown: RVS.buildbin-libdir/RVS/Meta: Operation not permitted chown: RVS.buildbin-libdir/RVS/NAMESPACE: Operation not permitted chown: RVS.buildbin-libdir/RVS/html/R.css: Operation not permitted chown: RVS.buildbin-libdir/RVS/html/00Index.html: Operation not permitted chown: RVS.buildbin-libdir/RVS/html: Operation not permitted chown: RVS.buildbin-libdir/RVS/DESCRIPTION: Operation not permitted chown: RVS.buildbin-libdir/RVS/NEWS: Operation not permitted chown: RVS.buildbin-libdir/RVS/INDEX: Operation not permitted chown: RVS.buildbin-libdir/RVS/doc/index.html: Operation not permitted chown: RVS.buildbin-libdir/RVS/doc/RVS.Rmd: Operation not permitted chown: RVS.buildbin-libdir/RVS/doc/RVS.R: Operation not permitted chown: RVS.buildbin-libdir/RVS/doc/RVS.html: Operation not permitted chown: RVS.buildbin-libdir/RVS/doc: Operation not permitted chown: RVS.buildbin-libdir/RVS/data/Rdata.rds: Operation not permitted chown: RVS.buildbin-libdir/RVS/data/Rdata.rdx: Operation not permitted chown: RVS.buildbin-libdir/RVS/data/Rdata.rdb: Operation not permitted chown: RVS.buildbin-libdir/RVS/data: Operation not permitted chown: RVS.buildbin-libdir/RVS/help/AnIndex: Operation not permitted chown: RVS.buildbin-libdir/RVS/help/aliases.rds: Operation not permitted chown: RVS.buildbin-libdir/RVS/help/paths.rds: Operation not permitted chown: RVS.buildbin-libdir/RVS/help/RVS.rdx: Operation not permitted chown: RVS.buildbin-libdir/RVS/help/RVS.rdb: Operation not permitted chown: RVS.buildbin-libdir/RVS/help: Operation not permitted chown: RVS.buildbin-libdir/RVS: Operation not permitted