Package: RVS Version: 1.30.0 Command: /Library/Frameworks/R.framework/Resources/bin/R CMD build --keep-empty-dirs --no-resave-data RVS StartedAt: 2025-04-21 18:15:53 -0400 (Mon, 21 Apr 2025) EndedAt: 2025-04-21 18:18:51 -0400 (Mon, 21 Apr 2025) EllapsedTime: 177.5 seconds RetCode: 0 Status: OK PackageFile: RVS_1.30.0.tar.gz PackageFileSize: 566.7 KiB